BEGIN:VCALENDAR
PRODID:-//eluceo/ical//2.0/EN
VERSION:2.0
CALSCALE:GREGORIAN
BEGIN:VEVENT
UID:13b5260596c67e1f5c56ee3ca6f204c0
DTSTAMP:20260420T101522Z
SUMMARY:PJ Shabbat
DESCRIPTION:Shaw JCC of Akron\nCalendar\nhttps://shawjcc.org/calendar/pj-sh
 abbat-1640207904-396081\n\nPJ Shabbat
DTSTART;TZID=America/New_York:20220520T170000
DTEND;TZID=America/New_York:20220520T200000
END:VEVENT
END:VCALENDAR
