BEGIN:VCALENDAR
PRODID:-//eluceo/ical//2.0/EN
VERSION:2.0
CALSCALE:GREGORIAN
BEGIN:VEVENT
UID:80dc25467096565a6778251c3e3409a3
DTSTAMP:20260426T021458Z
SUMMARY:PJ Shabbat
DESCRIPTION:Shaw JCC of Akron\nCalendar\nhttps://shawjcc.org/calendar/pj-sh
 abbat-1669656271-422559\n\nPJ Shabbat
DTSTART;TZID=America/New_York:20230113T173000
DTEND;TZID=America/New_York:20230113T190000
END:VEVENT
END:VCALENDAR
