BEGIN:VCALENDAR
PRODID:-//eluceo/ical//2.0/EN
VERSION:2.0
CALSCALE:GREGORIAN
BEGIN:VEVENT
UID:ba7a6fae6a4b39d9437aa53183eef777
DTSTAMP:20260423T113917Z
SUMMARY:Play Reading: Rx by Kate Fodor
DESCRIPTION:Shaw JCC of Akron\nCalendar\nhttps://shawjcc.org/calendar/play-
 reading-rx-by-kate-fodor-1514742478-257603\n\nTake a look at the modern ne
 ed to always “feel happy”— with a reminder that pain is an important
  part of life. Join us for Interplay Jewish Theater’s reading of Rx\, a 
 romantic comedy about modern culture and our relationship to pharmaceutica
 ls as a solution to all our problems. At the play’s debut\, one reviewer
  said\, “Ms. Fodor’s smart\, sweet play suggests that the endorphins r
 eleased by garden-variety love may be the most reliable mood-enhancing dru
 g on the market today.” See...
DTSTART;TZID=America/New_York:20180128T140000
DTEND;TZID=America/New_York:20180128T160000
END:VEVENT
END:VCALENDAR
