BEGIN:VCALENDAR
PRODID:-//eluceo/ical//2.0/EN
VERSION:2.0
CALSCALE:GREGORIAN
BEGIN:VEVENT
UID:ca148e3535471ba1a4d28b7dc14599dc
DTSTAMP:20260421T132557Z
SUMMARY:Pots & Pans Cooking Class
DESCRIPTION:Shaw JCC of Akron\nCalendar\nhttps://shawjcc.org/calendar/pots-
 pans-cooking-classfeb-338070\n\nLearn seasonal recipes and techniques in t
 his hands-on fun class! No experience necessary. Make sure you make a rese
 rvation as this class fills up quickly.\n\nFEB. 20 FABULOUS FLATBREAD\n\nM
 ARCH 19 EAT YOUR VEGGIES (AND OTHER HEALTHY STUFF!)\n\nCost: $12/M $18/G
DTSTART;TZID=America/New_York:20200220T133000
DTEND;TZID=America/New_York:20200220T153000
END:VEVENT
END:VCALENDAR
