BEGIN:VCALENDAR
PRODID:-//eluceo/ical//2.0/EN
VERSION:2.0
CALSCALE:GREGORIAN
BEGIN:VEVENT
UID:44a453356317ef84718eda4379c61735
DTSTAMP:20260421T095905Z
SUMMARY:Pre-Passover Women's Chavurah Program Anshe Sfard
DESCRIPTION:Shaw JCC of Akron\nCalendar\nhttps://shawjcc.org/calendar/pre-p
 assover-womens-chavurah-program-1663164769-417859\n\nPre-Pesach Women's pr
 ogram
DTSTART;TZID=America/New_York:20230326T170000
DTEND;TZID=America/New_York:20230326T190000
END:VEVENT
END:VCALENDAR
