BEGIN:VCALENDAR
PRODID:-//eluceo/ical//2.0/EN
VERSION:2.0
CALSCALE:GREGORIAN
BEGIN:VEVENT
UID:eabe31efd18d52191abea1c92627e6d3
DTSTAMP:20260425T011922Z
SUMMARY:Preschool 1 American Red Cross Swim Lessons
DESCRIPTION:Shaw JCC of Akron\nCalendar\nhttps://shawjcc.org/calendar/presc
 hool-1-american-red-cross-swim-lessonsjansat2020\n\nThis program introduce
 s your child to being comfortable in a group setting\, independent of pare
 nts participating in the water with them. This class promises fun for pres
 choolers aged 3-5 years old. \n\nSwimmers will learn how to:\n\n\nBasic w
 ater skills\nBlowing bubbles\nFloating on front and back (while assisted)\
 nKicking\n\n\nSat.\, 9:30-10 a.m.\n\nJan. 4- Feb. 22\n\nCost: $50/M $75/G\
 n\n603.018
DTSTART;TZID=America/New_York:20200104T100000
DTEND;TZID=America/New_York:20200104T103000
END:VEVENT
END:VCALENDAR
