BEGIN:VCALENDAR
PRODID:-//eluceo/ical//2.0/EN
VERSION:2.0
CALSCALE:GREGORIAN
BEGIN:VEVENT
UID:266e7f0ce336c2eb3ae7dbb6c60f3c61
DTSTAMP:20260423T112659Z
SUMMARY:Presidents' Day Celebration
DESCRIPTION:Shaw JCC of Akron\nCalendar\nhttps://shawjcc.org/calendar/presi
 dents-day-celebration-1514919498-257682\n\nCelebrate Presidents’ Day wit
 h a free\, family-friendly day at the Museum! Participate in hands-on acti
 vities and crafts\; plus\, you’ll have the chance to hear from past pres
 idents such as George Washington\, Abraham Lincoln\, Theodore Roosevelt\, 
 and FDR!\n\nPresented by the Friends of the Maltz Museum.
DTSTART;TZID=America/New_York:20180219T110000
DTEND;TZID=America/New_York:20180219T170000
END:VEVENT
END:VCALENDAR
