BEGIN:VCALENDAR
PRODID:-//eluceo/ical//2.0/EN
VERSION:2.0
CALSCALE:GREGORIAN
BEGIN:VEVENT
UID:07aba24d5a7bc131022438c953cd42dd
DTSTAMP:20260420T215613Z
SUMMARY:Purim
DESCRIPTION:Shaw JCC of Akron\nCalendar\nhttps://shawjcc.org/calendar/purim
 -1645726642-400864\n\nBeth El Purim Celebration
DTSTART;TZID=America/New_York:20220316T170000
DTEND;TZID=America/New_York:20220316T203000
END:VEVENT
END:VCALENDAR
