BEGIN:VCALENDAR
PRODID:-//eluceo/ical//2.0/EN
VERSION:2.0
CALSCALE:GREGORIAN
BEGIN:VEVENT
UID:8cc7932b3fee9da487c7270e80f131bf
DTSTAMP:20260420T170849Z
SUMMARY:Purim Celebration
DESCRIPTION:Shaw JCC of Akron\nCalendar\nhttps://shawjcc.org/calendar/purim
 -celebration-1689777194-443421\n\nAnnual Purim Celebration
DTSTART;TZID=America/New_York:20240324T160000
DTEND;TZID=America/New_York:20240324T210000
END:VEVENT
END:VCALENDAR
