BEGIN:VCALENDAR
PRODID:-//eluceo/ical//2.0/EN
VERSION:2.0
CALSCALE:GREGORIAN
BEGIN:VEVENT
UID:03cbe015161b07a3a30a4593872e51e5
DTSTAMP:20260425T131716Z
SUMMARY:Purim Celebration at Anshe Sfard
DESCRIPTION:Shaw JCC of Akron\nCalendar\nhttps://shawjcc.org/calendar/purim
 -celebration-at-anshe-sfard-1529080220-274527\n\nPurim Celebration at Ansh
 e Sfard
DTSTART;TZID=America/New_York:20190321T170000
DTEND;TZID=America/New_York:20190321T220000
END:VEVENT
END:VCALENDAR
