BEGIN:VCALENDAR
PRODID:-//eluceo/ical//2.0/EN
VERSION:2.0
CALSCALE:GREGORIAN
BEGIN:VEVENT
UID:31ba608abb698e8ef2188946bba8a0ab
DTSTAMP:20260421T123947Z
SUMMARY:Purim Party at Anshe Sfard
DESCRIPTION:Shaw JCC of Akron\nCalendar\nhttps://shawjcc.org/calendar/purim
 -party-at-anshe-sfard-193778\n\nPurim party
DTSTART;TZID=America/New_York:20170312T170000
DTEND;TZID=America/New_York:20170312T210000
END:VEVENT
END:VCALENDAR
