BEGIN:VCALENDAR
PRODID:-//eluceo/ical//2.0/EN
VERSION:2.0
CALSCALE:GREGORIAN
BEGIN:VEVENT
UID:58ca9a07600929d6a6b6958b420b43dc
DTSTAMP:20260423T042204Z
SUMMARY:Purim\, Pizza & Parodies
DESCRIPTION:Shaw JCC of Akron\nCalendar\nhttps://shawjcc.org/calendar/purim
 -pizza-parodies-2020-307328\n\nBeth El's Purim Celebration. Enjoy the musi
 cal rendition of the Megillah brought to you by Beth El Congregation. Join
  us for dinner at 5:30 pm\, followed by the ultimate Purim Shpeil\, Megill
 ah reading\, and more! Free and open to the public.
DTSTART;TZID=America/New_York:20200309T170000
DTEND;TZID=America/New_York:20200309T200000
END:VEVENT
END:VCALENDAR
