BEGIN:VCALENDAR
PRODID:-//eluceo/ical//2.0/EN
VERSION:2.0
CALSCALE:GREGORIAN
BEGIN:VEVENT
UID:338a55e67effcc8c5847059d8be63643
DTSTAMP:20260420T123039Z
SUMMARY:RCJ Cards & Crafts
DESCRIPTION:Shaw JCC of Akron\nCalendar\nhttps://shawjcc.org/calendar/rcj-c
 ards-and-crafts-1545159174-296101\n\nPlay a friendly game of cards while e
 njoying craft brews from one of the area's newest breweries.\n\n \n\nWe'l
 l supply a traditional card deck\, and feel free to bring other card/smal
 l tabletop games as well!\nFree appetizers and first round for RCJ Ticket
  Holders.
DTSTART;TZID=America/New_York:20190129T173000
DTEND;TZID=America/New_York:20190129T200000
END:VEVENT
END:VCALENDAR
