BEGIN:VCALENDAR
PRODID:-//eluceo/ical//2.0/EN
VERSION:2.0
CALSCALE:GREGORIAN
BEGIN:VEVENT
UID:ddb0078586dbb17ab4150103177dd9a7
DTSTAMP:20260424T035920Z
SUMMARY:RCJ Purim Celebration
DESCRIPTION:Shaw JCC of Akron\nCalendar\nhttps://shawjcc.org/calendar/rcj-c
 elebration-of-p-303520\n\nThe festive Purim holiday is fast approaching! C
 elebrate with other Jewish young professionals at the RCJ Purim Party on M
 arch 23 from 6-8:30 p.m. at High St. Hop House/Uncorked Wine Bar. Mix and 
 mingle with live music\, great food\, and beverages in this hip\, downtown
  spot. Dress up as your favorite character from a story\, movie\, TV show\
 , or comic. Prizes will be awarded to the best costumes! This event is fre
 e for RCJ-Ticket Holders and $10 for guests.\n\nNeed to purchase or renew 
 your RCJ ...
DTSTART;TZID=America/New_York:20190323T180000
DTEND;TZID=America/New_York:20190323T203000
END:VEVENT
END:VCALENDAR
