BEGIN:VCALENDAR
PRODID:-//eluceo/ical//2.0/EN
VERSION:2.0
CALSCALE:GREGORIAN
BEGIN:VEVENT
UID:5ff3ea910c8f33490c3860ac8a6b705a
DTSTAMP:20260425T040538Z
SUMMARY:RCJ Dinner
DESCRIPTION:Shaw JCC of Akron\nCalendar\nhttps://shawjcc.org/calendar/rcj-d
 inner-339630\n\nFREE RCJ Dinner (lasagna and more!) and informational disc
 ussion about the JCBA campaign.\n\nWelcome to all 20s-early 40s.\n\nEmail 
 rubbercityjews@gmail.com for more information.
DTSTART;TZID=America/New_York:20200205T173000
DTEND;TZID=America/New_York:20200205T193000
END:VEVENT
END:VCALENDAR
