BEGIN:VCALENDAR
PRODID:-//eluceo/ical//2.0/EN
VERSION:2.0
CALSCALE:GREGORIAN
BEGIN:VEVENT
UID:3b98709268858b4b04ddf274a646c89a
DTSTAMP:20260424T035320Z
SUMMARY:RCJ Habitat for Humanity ReStore Project
DESCRIPTION:Shaw JCC of Akron\nCalendar\nhttps://shawjcc.org/calendar/rcj-h
 abitat-for-humanity-restore-project-249381\n\nRCJ will be helping in the H
 abitat for Humanity ReStore. Check back for details and times.
DTSTART;TZID=America/New_York:20171209T000000
DTEND;TZID=America/New_York:20171209T000000
END:VEVENT
END:VCALENDAR
