BEGIN:VCALENDAR
PRODID:-//eluceo/ical//2.0/EN
VERSION:2.0
CALSCALE:GREGORIAN
BEGIN:VEVENT
UID:bbe4454e2bd4f1e2a53addb6a6886346
DTSTAMP:20260424T202520Z
SUMMARY:RCJ Hamantaschen Making
DESCRIPTION:Shaw JCC of Akron\nCalendar\nhttps://shawjcc.org/calendar/rcj-h
 amantaschen-making-1488425546-223907\n\nHelp make Hamantaschen for Mishloa
 ch Manot (gift baskets for charity) and for the Purim Party on March 11th.
  Come any time between 1 and 4\, or stay the whole afternoon if you like. 
 If you've never made these 3 cornered cookies before\, we'll show you how.
  There will be bagels and cream cheese to nosh on\, and maybe a few cookie
 s too!
DTSTART;TZID=America/New_York:20170305T130000
DTEND;TZID=America/New_York:20170305T160000
END:VEVENT
END:VCALENDAR
