BEGIN:VCALENDAR
PRODID:-//eluceo/ical//2.0/EN
VERSION:2.0
CALSCALE:GREGORIAN
BEGIN:VEVENT
UID:d9631907be3d4496614f0799530d4406
DTSTAMP:20260422T160356Z
SUMMARY:RCJ Hanukkah Celebration
DESCRIPTION:Shaw JCC of Akron\nCalendar\nhttps://shawjcc.org/calendar/rcj-h
 anukkah-celebration-1539576820-289646\n\nEnjoy the holiday with latkes\, s
 ufganiyot\, and dreidel\, of course!\nLocation TBA. Check back for details
 .
DTSTART;TZID=America/New_York:20181208T190000
DTEND;TZID=America/New_York:20181208T210000
END:VEVENT
END:VCALENDAR
