BEGIN:VCALENDAR
PRODID:-//eluceo/ical//2.0/EN
VERSION:2.0
CALSCALE:GREGORIAN
BEGIN:VEVENT
UID:e0629f019adcc27c63fbc34cebe8537d
DTSTAMP:20260423T082556Z
SUMMARY:RCJ Happy Hour at Quarter Up
DESCRIPTION:Shaw JCC of Akron\nCalendar\nhttps://shawjcc.org/calendar/rcj-h
 appy-hour-at-quarter-up-1541350030-291598\n\nJoin RCJ for games\, drinks\,
  and grub. Free for RCJ Ticket Holders\, $5 for guests.
DTSTART;TZID=America/New_York:20181128T170000
DTEND;TZID=America/New_York:20181128T190000
END:VEVENT
END:VCALENDAR
