BEGIN:VCALENDAR
PRODID:-//eluceo/ical//2.0/EN
VERSION:2.0
CALSCALE:GREGORIAN
BEGIN:VEVENT
UID:63745117f8df4a213d121760c2386c6f
DTSTAMP:20260421T124121Z
SUMMARY:RCJ Haven of Rest Volunteer Project with the Shlichim
DESCRIPTION:Shaw JCC of Akron\nCalendar\nhttps://shawjcc.org/calendar/rcj-h
 aven-of-rest-volunteer-project-with-the-shlichim-256561\n\nPlease join us 
 for this simple but important volunteer project at the Haven of Rest with 
 our Shlichim\, Gili & Uri. We will help organize the shelter\, do laundry\
 , and make beds for the residents so the staff can have some time off for 
 Christmas. Depending on what time we finish\, we can get some drinks and 
 appetizers after the project. Do something meaningful on Christmas\, and 
 help those in need!
DTSTART;TZID=America/New_York:20171224T140000
DTEND;TZID=America/New_York:20171224T160000
END:VEVENT
END:VCALENDAR
