BEGIN:VCALENDAR
PRODID:-//eluceo/ical//2.0/EN
VERSION:2.0
CALSCALE:GREGORIAN
BEGIN:VEVENT
UID:4c485e48829758f098239202d5d285c7
DTSTAMP:20260420T151717Z
SUMMARY:RCJ Ice Skating and Polar Putt Putt
DESCRIPTION:Shaw JCC of Akron\nCalendar\nhttps://shawjcc.org/calendar/rcj-i
 ce-skating-and-polar-putt-putt-257898\n\nAn annual tradition\, no experien
 ce necessary! We will meet in the Skate Rental area at 2 pm. Skate around 
 for a bit and then warm up with a round of mini golf if you like. FREE for
  RCJ Ticket Holders. For non-ticket holders\, it will cost $4 for skating 
 (including skate rental)\, and putt-putt will be only $1 after that. Then 
 replenish with a beverage or a bite at a nearby restaurant TBD.
DTSTART;TZID=America/New_York:20180114T140000
DTEND;TZID=America/New_York:20180114T160000
END:VEVENT
END:VCALENDAR
