BEGIN:VCALENDAR
PRODID:-//eluceo/ical//2.0/EN
VERSION:2.0
CALSCALE:GREGORIAN
BEGIN:VEVENT
UID:a705dfb2cd36370463feaeec70eb9e80
DTSTAMP:20260425T182236Z
SUMMARY:RCJ Jewish Jewelry Making
DESCRIPTION:Shaw JCC of Akron\nCalendar\nhttps://shawjcc.org/calendar/rcj-j
 ewish-jewelry-making-1541022357-291303\n\nJoin us for a casual Jewish jewe
 lry making session\, just in time to create some homemade Hanukkah gifts! 
 Learn and share tips and techniques. Some materials will be provided\, or 
 bring your own! At the home of Leora Cohen. RSVP at rubbercityjews@gmail.c
 om for address.
DTSTART;TZID=America/New_York:20181117T150000
DTEND;TZID=America/New_York:20181117T170000
END:VEVENT
END:VCALENDAR
