BEGIN:VCALENDAR
PRODID:-//eluceo/ical//2.0/EN
VERSION:2.0
CALSCALE:GREGORIAN
BEGIN:VEVENT
UID:2c60be204ff90122878cf134f7f0955a
DTSTAMP:20260424T235501Z
SUMMARY:RCJ Kayaking Event
DESCRIPTION:Shaw JCC of Akron\nCalendar\nhttps://shawjcc.org/calendar/rcj-k
 ayaking-event-1499537898-237536\n\nEnjoy an afternoon on the Portage Lakes
  with RCJ! We will meet at the boat launch near the Walker Shelter off of 
 State Park Drive. Please arrive a few minutes before 1 to park and find th
 e group. We plan to be on the water from 1-3\, then we'll head to a local 
 restaurant for drinks or snacks. FREE for RCJ Ticket Holders\, $15 pp othe
 rwise. Not a Ticket Holder yet? Purchase online at www.JewishAkron.org/RC
 J-Ticket for an entire YEAR of RCJ programs\, plus discounts to many othe
 r community event...
DTSTART;TZID=America/New_York:20170813T130000
DTEND;TZID=America/New_York:20170813T160000
END:VEVENT
END:VCALENDAR
