BEGIN:VCALENDAR
PRODID:-//eluceo/ical//2.0/EN
VERSION:2.0
CALSCALE:GREGORIAN
BEGIN:VEVENT
UID:663a719aeefcc0b14be6a2a284119532
DTSTAMP:20260420T121730Z
SUMMARY:RCJ Blossom Movie Night - E.T.: The Extraterrestrial
DESCRIPTION:Shaw JCC of Akron\nCalendar\nhttps://shawjcc.org/calendar/rcj-m
 ovie-night-at-blossom-et-241177\n\nSee the classic film E.T. in HD on the 
 big screen\, with John Williams's Academy Award-winning score performed l
 ive by The Cleveland Orchestra. Please arrive at the entrance of Blossom b
 y 8:00 at the very latest to collect your ticket. Movie starts at 8:30. $5
  for RCJ-Ticket Holders\, $20 for non-ticket holders. RCJ-Tickets may be p
 urchased at www.JewishAkron.org/RCJ-Ticket for $18\, giving you admission 
 to a year's worth of regular RCJ programs and discounts to other programs 
 and community eve...
DTSTART;TZID=America/New_York:20170903T200000
DTEND;TZID=America/New_York:20170903T223000
END:VEVENT
END:VCALENDAR
