BEGIN:VCALENDAR
PRODID:-//eluceo/ical//2.0/EN
VERSION:2.0
CALSCALE:GREGORIAN
BEGIN:VEVENT
UID:bd7647f61334884ec9953509e37d2101
DTSTAMP:20260421T044006Z
SUMMARY:RCJ Open Programming Meeting
DESCRIPTION:Shaw JCC of Akron\nCalendar\nhttps://shawjcc.org/calendar/rcj-o
 pen-programming-meeting-286430\n\nDo you have RCJ program ideas?? Here's y
 our chance to share your ideas and feedback\, and to help us plan for the 
 coming year! \n\nMeet in the back room of Panera.\n\nCoffee/Snacks/Pastri
 es on RCJ!
DTSTART;TZID=America/New_York:20180916T140000
DTEND;TZID=America/New_York:20180916T150000
END:VEVENT
END:VCALENDAR
