BEGIN:VCALENDAR
PRODID:-//eluceo/ical//2.0/EN
VERSION:2.0
CALSCALE:GREGORIAN
BEGIN:VEVENT
UID:04ea4c91dc54d034aaa3cf68083afc3a
DTSTAMP:20260420T204255Z
SUMMARY:RCJ Plant Nite Terrarium Making
DESCRIPTION:Shaw JCC of Akron\nCalendar\nhttps://shawjcc.org/calendar/rcj-p
 lant-nite-terrarium-making-1494187308-229982\n\nThis evening marks the Har
 vest Festival of Shavuot\, so harvest up some creativity and assemble your
  own Terrarium! All materials and instruction will be provided. FREE for R
 CJ Ticket Holders\, $20 otherwise. Must be 21 or over. **There are only 7 
 tickets left\, so be sure to sign up soon to reserve your spot (email rubb
 ercityjews@gmail.com or RSVP on Facebook).\n\nShavuot is the Jewish holida
 y that celebrates the receiving of the Torah at Mt. Sinai. A few Shavuot t
 raditions include studying Tor...
DTSTART;TZID=America/New_York:20170531T184500
DTEND;TZID=America/New_York:20170531T210000
END:VEVENT
END:VCALENDAR
