BEGIN:VCALENDAR
PRODID:-//eluceo/ical//2.0/EN
VERSION:2.0
CALSCALE:GREGORIAN
BEGIN:VEVENT
UID:f88c79834b8eda873c61389b3223b07f
DTSTAMP:20260421T134652Z
SUMMARY:RCJ Pumpkin Carving rcj
DESCRIPTION:Shaw JCC of Akron\nCalendar\nhttps://shawjcc.org/calendar/rcj-p
 umpkin-carving-rcj-282334\n\nJoin RCJ (20s and 30s+) for our annual pumpki
 n carving event!\n\nLimited carving tools and stencils will be provided\, 
 as well as snacks and cider. \n\nRSVP to rubbercityjews@gmail.com by Octo
 ber 21st to reserve a pumpkin\, or feel free to bring your own.\n\nFree f
 or RCJ Ticket Holders! \n\n \n\n \n\n \n\n \n\n 
DTSTART;TZID=America/New_York:20181028T150000
DTEND;TZID=America/New_York:20181028T170000
END:VEVENT
END:VCALENDAR
