BEGIN:VCALENDAR
PRODID:-//eluceo/ical//2.0/EN
VERSION:2.0
CALSCALE:GREGORIAN
BEGIN:VEVENT
UID:f8f93f9f8497ddf7d4db01a863226413
DTSTAMP:20260423T164839Z
SUMMARY:RCJ RubberDucks Game
DESCRIPTION:Shaw JCC of Akron\nCalendar\nhttps://shawjcc.org/calendar/rcj-r
 ubberducks-game-316501\n\nJoin RCJ for a RubberDucks game\, generously sup
 ported by Brouse McDowell and the Merklin Family. \n\nFor 20s and 30s+. M
 ust RSVP to rubbercityjews@gmail.com by August 10th to reserve your ticket
 !\n\nThe suite is open to adults only at this point\, and we will provide 
 additional seats for our young families in an adjacent section. RSVP today
 !! Fireworks after the game :) 
DTSTART;TZID=America/New_York:20190815T190500
DTEND;TZID=America/New_York:20190815T220000
END:VEVENT
END:VCALENDAR
