BEGIN:VCALENDAR
PRODID:-//eluceo/ical//2.0/EN
VERSION:2.0
CALSCALE:GREGORIAN
BEGIN:VEVENT
UID:b0e7aa81b58e345fc1f1a28a16ea1b8a
DTSTAMP:20260420T183429Z
SUMMARY:RCJ Shabbat Dinner
DESCRIPTION:Shaw JCC of Akron\nCalendar\nhttps://shawjcc.org/calendar/rcj-s
 habbat-dinner-1545158512-296097\n\nRCJ Shabbat dinner with special guest L
 ex Rofeberg who will lead a discussion on the Jewish future.
DTSTART;TZID=America/New_York:20190104T183000
DTEND;TZID=America/New_York:20190104T203000
END:VEVENT
END:VCALENDAR
