BEGIN:VCALENDAR
PRODID:-//eluceo/ical//2.0/EN
VERSION:2.0
CALSCALE:GREGORIAN
BEGIN:VEVENT
UID:f85cf2b98a5e147293f195e8c9fe08a5
DTSTAMP:20260426T034958Z
SUMMARY:RCJ Shabbat Dinner - with goats!
DESCRIPTION:Shaw JCC of Akron\nCalendar\nhttps://shawjcc.org/calendar/rcj-s
 habbat-dinner-with-goats-275701\n\nExperience a fully catered family frien
 dly RCJ Shabbat Dinner at the beautiful Domokos home\, where you can also 
 learn a bit about raising chickens and goats! Please email rubbercityjews@
 gmail.com for address. Free for all 20s and 30s+!
DTSTART;TZID=America/New_York:20180713T180000
DTEND;TZID=America/New_York:20180713T203000
END:VEVENT
END:VCALENDAR
