BEGIN:VCALENDAR
PRODID:-//eluceo/ical//2.0/EN
VERSION:2.0
CALSCALE:GREGORIAN
BEGIN:VEVENT
UID:6f423fcec6083bccacc7e4f286e7966e
DTSTAMP:20260422T230617Z
SUMMARY:RCJ Shabbat-iquette
DESCRIPTION:Shaw JCC of Akron\nCalendar\nhttps://shawjcc.org/calendar/rcj-s
 habbat-iquette-1486141432-221300\n\nLooking to learn what Shabbat is all a
 bout? Want to be familiar with the etiquette involved in the rituals and t
 raditions? Come and learn more with your RCJ friends about this Jewish hol
 iday that comes every week\, which encourages you to take time to rest and
  play\, to enjoy family and friends\, and to put work and worries aside. G
 et the perspectives and guidelines from different sects of Judaism. Wine\,
  challah\, and other traditional Jewish (vegetarian) foods for sampling! L
 earn in time for our...
DTSTART;TZID=America/New_York:20170211T180000
DTEND;TZID=America/New_York:20170211T210000
END:VEVENT
END:VCALENDAR
