BEGIN:VCALENDAR
PRODID:-//eluceo/ical//2.0/EN
VERSION:2.0
CALSCALE:GREGORIAN
BEGIN:VEVENT
UID:806d6a1cfd7a4276f21aac97894bafbc
DTSTAMP:20260423T011847Z
SUMMARY:RCJ Snow Tubing
DESCRIPTION:Shaw JCC of Akron\nCalendar\nhttps://shawjcc.org/calendar/rcj-s
 now-tubing-1486141534-221301\n\nJoin RCJ for more fun in the snow as we ve
 nture to Brandywine's Polar Blast for Snow Tubing! If 15 or more people at
 tend\, we are eligible for a group rate of $20 per person\, and RCJ will p
 rovide $5 toward your ticket. So bring a friend to ensure this special dis
 count! This activity is suitable for any age as long as they can sit alone
  in their own tube. Check out the Polar Blast site for more details. Pleas
 e RSVP through Facebook or email us to reserve your spot today!
DTSTART;TZID=America/New_York:20170219T143000
DTEND;TZID=America/New_York:20170219T173000
END:VEVENT
END:VCALENDAR
