BEGIN:VCALENDAR
PRODID:-//eluceo/ical//2.0/EN
VERSION:2.0
CALSCALE:GREGORIAN
BEGIN:VEVENT
UID:845b057c401d17a2d1f9750d1afc9249
DTSTAMP:20260425T010405Z
SUMMARY:RCJ Sushi in the Sukkah 2019
DESCRIPTION:Shaw JCC of Akron\nCalendar\nhttps://shawjcc.org/calendar/rcj-s
 ushi-in-the-sukkah-2019-321786\n\nCelebrate Sukkot with RCJ in the beautif
 ul Sukkah of Leora and Nathan Cohen.\n\nSushi and other delights will be s
 erved. Family friendly and free for all! \n\nFor questions and to RSVP\, 
 please email rubbercityjews@gmail.com.
DTSTART;TZID=America/New_York:20191019T180000
DTEND;TZID=America/New_York:20191019T200000
END:VEVENT
END:VCALENDAR
