BEGIN:VCALENDAR
PRODID:-//eluceo/ical//2.0/EN
VERSION:2.0
CALSCALE:GREGORIAN
BEGIN:VEVENT
UID:056fa5098bdab86e550474de9fc43001
DTSTAMP:20260425T130552Z
SUMMARY:Rebrand Focus Group for Young Leadership
DESCRIPTION:Shaw JCC of Akron\nCalendar\nhttps://shawjcc.org/calendar/rebra
 nd-focus-group-for-young-leadership-319743\n\nYoung Leadership in the Jewi
 sh Akron Community: We Need You to help shape the future of our campus & c
 ommunity!\n\nYou're invited to participate in a focus group and provide fe
 edback that will be used for the rebranding of the Jewish Community Board 
 of Akron and the repositioning of the Schultz Campus for Jewish Life for t
 he Greater Akron community. \n\nPlease RSVP to aatwood@jewishakron.org by
  Aug. 7. Childcare and light snacks provided\n\nRebrand Focus Group\n\nThu
 rsday\, August 8\, 2019\n\n...
DTSTART;TZID=America/New_York:20190808T170000
DTEND;TZID=America/New_York:20190808T180000
END:VEVENT
END:VCALENDAR
