BEGIN:VCALENDAR
PRODID:-//eluceo/ical//2.0/EN
VERSION:2.0
CALSCALE:GREGORIAN
BEGIN:VEVENT
UID:2cca74815a58ba71fae899dd4d834a1c
DTSTAMP:20260420T082947Z
SUMMARY:Refugee Shabbat
DESCRIPTION:Shaw JCC of Akron\nCalendar\nhttps://shawjcc.org/calendar/refug
 ee-shabbat-287605\n\nOctober 19-20 has been designated by HIAS as immigrat
 ion Shabbat. Join us as we learn more.
DTSTART;TZID=America/New_York:20181020T091500
DTEND;TZID=America/New_York:20181020T120000
END:VEVENT
END:VCALENDAR
