BEGIN:VCALENDAR
PRODID:-//eluceo/ical//2.0/EN
VERSION:2.0
CALSCALE:GREGORIAN
BEGIN:VEVENT
UID:c87e8d9e3b82ae9a10fdb76516806393
DTSTAMP:20260425T140427Z
SUMMARY:Retired Men's Club
DESCRIPTION:Shaw JCC of Akron\nCalendar\nhttps://shawjcc.org/calendar/retir
 ed-mens-clubfeb-338003\n\nJoin the Retired Men’s Club for open discussio
 n on the 2nd and 4th Tuesday in the month. No RSVP necessary. Coffee and b
 agels will be served. $1 donation suggested.\n\n2nd and 4th Tues. in the m
 onth
DTSTART;TZID=America/New_York:20200211T093000
DTEND;TZID=America/New_York:20200211T113000
END:VEVENT
END:VCALENDAR
