BEGIN:VCALENDAR
PRODID:-//eluceo/ical//2.0/EN
VERSION:2.0
CALSCALE:GREGORIAN
BEGIN:VEVENT
UID:0290292549cd21e52ffd47428c569aad
DTSTAMP:20260424T054826Z
SUMMARY:Ride of the Month
DESCRIPTION:Shaw JCC of Akron\nCalendar\nhttps://shawjcc.org/calendar/ride-
 of-the-monthmarch-337997\n\nRide of the Month (ROM) is an elevated\, theme
 d Spinning experience once a month that ranges anywhere from 60-90 minutes
  and is open to members and nonmembers. You may ride in Spain\, climb hill
 s or race! Check our schedule for an elevated ride each Saturday of the mo
 nth. The rides are specialty rides for 60\, 75 or 90 minutes. \nEach ride
  is only $8. Make sure you sign up for a bike ahead\; there are only 14 bi
 kes. \n\nThis month: Mohican Mayhem! a 70-75 minute ride modeled after a 
 race held annu...
DTSTART;TZID=America/New_York:20200314T083000
DTEND;TZID=America/New_York:20200314T093000
END:VEVENT
END:VCALENDAR
