BEGIN:VCALENDAR
PRODID:-//eluceo/ical//2.0/EN
VERSION:2.0
CALSCALE:GREGORIAN
BEGIN:VEVENT
UID:0e78f97c058b8e66c79ad131a9001e77
DTSTAMP:20260422T214138Z
SUMMARY:Scholar in Residence: Avivah Zornberg
DESCRIPTION:Shaw JCC of Akron\nCalendar\nhttps://shawjcc.org/calendar/schol
 ar-in-residence-avivah-zornberg-252933\n\nCome for this intimate talk on M
 oses's life journey with world-renowned Biblical Scholar & author\, Dr. Av
 ivah Zornberg. \n\nDesserts and coffee included. Tickets are $10 in advan
 ce / $15 at the door.\n\nBooks will be fore sale and signed.\n\nDr. Zornbe
 rg's talk based on her new book\, "Moses: A Human Life." Moses' fundamenta
 l sense of himself as "not a man of words" comes to a poignant consummatio
 n in the long speeches he makes to the people before he dies. What does it
  mean to learn to speak...
DTSTART;TZID=America/New_York:20180506T190000
DTEND;TZID=America/New_York:20180506T210000
END:VEVENT
END:VCALENDAR
