BEGIN:VCALENDAR
PRODID:-//eluceo/ical//2.0/EN
VERSION:2.0
CALSCALE:GREGORIAN
BEGIN:VEVENT
UID:e4f9175bef0aca7cb58314d6bb736b41
DTSTAMP:20260420T215913Z
SUMMARY:Schultz Campus Night at Canal Park
DESCRIPTION:Shaw JCC of Akron\nCalendar\nhttps://shawjcc.org/calendar/schul
 tz-campus-day-at-canal-park-315625\n\nEnter for your chance to win a four-
 pack of tickets for Schultz Campus Night at Canal Park and Fireworks Spect
 acular by merely visiting the Schultz Campus between now and Monday\, July
  8. Every time you scan your membership card at one of the desks or pool g
 ate\, you'll be entered to win! Winners will be randomly drawn and notifie
 d on July 8 by 5 p.m.\n\nJoin in the family fun on Thursday\, July 11 at 
 7:05 p.m. as the Akron RubberDucks play against the Bowie Baysox at Canal 
 Park. Cleveland Ind...
DTSTART;TZID=America/New_York:20190711T190500
DTEND;TZID=America/New_York:20190711T210500
END:VEVENT
END:VCALENDAR
