BEGIN:VCALENDAR
PRODID:-//eluceo/ical//2.0/EN
VERSION:2.0
CALSCALE:GREGORIAN
BEGIN:VEVENT
UID:15bed6353e6201f9aa1a0a6b35fbf80b
DTSTAMP:20260423T231758Z
SUMMARY:Second Annual Native American Foods Dinner
DESCRIPTION:Shaw JCC of Akron\nCalendar\nhttps://shawjcc.org/calendar/secon
 d-annual-native-american-foods-dinner-324926\n\nEnjoy delicious authentic 
 Native American cuisines such as Great Plains Bison Chili\, Northwest Bake
 d Salmon\, Ojibwa Wild Rice\, and Narragansett Succotash. This event will 
 be the culmination of the North American First People's Day weekend celebr
 ation.
DTSTART;TZID=America/New_York:20191006T163000
DTEND;TZID=America/New_York:20191006T183000
END:VEVENT
END:VCALENDAR
