BEGIN:VCALENDAR
PRODID:-//eluceo/ical//2.0/EN
VERSION:2.0
CALSCALE:GREGORIAN
BEGIN:VEVENT
UID:c593964d8cc058e83f09c687411856cb
DTSTAMP:20260423T171721Z
SUMMARY:Community Second Seder
DESCRIPTION:Shaw JCC of Akron\nCalendar\nhttps://shawjcc.org/calendar/secon
 d-seder-87584\n\nCommunity Second Seder
DTSTART;TZID=America/New_York:20170411T180000
DTEND;TZID=America/New_York:20170411T210000
END:VEVENT
END:VCALENDAR
