BEGIN:VCALENDAR
PRODID:-//eluceo/ical//2.0/EN
VERSION:2.0
CALSCALE:GREGORIAN
BEGIN:VEVENT
UID:90c1b070ccfc66d71ac88aebe8edbc00
DTSTAMP:20260420T110453Z
SUMMARY:Seder of Refuge (2nd Seder)
DESCRIPTION:Shaw JCC of Akron\nCalendar\nhttps://shawjcc.org/calendar/seder
 -of-refuge-2nd-seder-1552926220-304963\n\nThe 2nd Seder with modern immigr
 ants in mind
DTSTART;TZID=America/New_York:20190420T180000
DTEND;TZID=America/New_York:20190420T200000
END:VEVENT
END:VCALENDAR
