BEGIN:VCALENDAR
PRODID:-//eluceo/ical//2.0/EN
VERSION:2.0
CALSCALE:GREGORIAN
BEGIN:VEVENT
UID:8fc22b7784d0ac7c3949570edc2adeda
DTSTAMP:20260421T065022Z
SUMMARY:Selichot at Beth El
DESCRIPTION:Shaw JCC of Akron\nCalendar\nhttps://shawjcc.org/calendar/selic
 hot-at-beth-el-324913\n\nSelichot at Beth El 
DTSTART;TZID=America/New_York:20190921T210000
DTEND;TZID=America/New_York:20190921T220000
END:VEVENT
END:VCALENDAR
