BEGIN:VCALENDAR
PRODID:-//eluceo/ical//2.0/EN
VERSION:2.0
CALSCALE:GREGORIAN
BEGIN:VEVENT
UID:e4afb927ae758b18085028702c58fc72
DTSTAMP:20260422T114218Z
SUMMARY:Shabbat in the Park
DESCRIPTION:Shaw JCC of Akron\nCalendar\nhttps://shawjcc.org/calendar/shabb
 at-in-the-park-2017-229120\n\nJoin us for our annual Shabbat in the Park a
 t the Shaw JCC Camp Pavilion. Come casual for this Shabbat morning.\n\n 
DTSTART;TZID=America/New_York:20170617T091500
DTEND;TZID=America/New_York:20170617T121500
END:VEVENT
END:VCALENDAR
