BEGIN:VCALENDAR
PRODID:-//eluceo/ical//2.0/EN
VERSION:2.0
CALSCALE:GREGORIAN
BEGIN:VEVENT
UID:497f0fbddcd04bacf1c99ae73b40390e
DTSTAMP:20260423T030949Z
SUMMARY:Shabbat in the Round - March
DESCRIPTION:Shaw JCC of Akron\nCalendar\nhttps://shawjcc.org/calendar/shabb
 at-in-the-round---march-1543246044-294249\n\nFamily Shabbat at Anshe Sfard
DTSTART;TZID=America/New_York:20190308T173000
DTEND;TZID=America/New_York:20190308T193000
END:VEVENT
END:VCALENDAR
