BEGIN:VCALENDAR
PRODID:-//eluceo/ical//2.0/EN
VERSION:2.0
CALSCALE:GREGORIAN
BEGIN:VEVENT
UID:05823a1d4751960f1e0a112b7b90a5c1
DTSTAMP:20260425T162632Z
SUMMARY:Shabbat in the Round
DESCRIPTION:Shaw JCC of Akron\nCalendar\nhttps://shawjcc.org/calendar/shabb
 at-in-the-round-1495729733-232288\n\nFamily Shabbat
DTSTART;TZID=America/New_York:20171103T053000
DTEND;TZID=America/New_York:20171103T080000
END:VEVENT
END:VCALENDAR
