BEGIN:VCALENDAR
PRODID:-//eluceo/ical//2.0/EN
VERSION:2.0
CALSCALE:GREGORIAN
BEGIN:VEVENT
UID:3b7f9901218f7b9884b8b4594075e68b
DTSTAMP:20260424T215020Z
SUMMARY:Shabbat in the Round at Anshe Sfard
DESCRIPTION:Shaw JCC of Akron\nCalendar\nhttps://shawjcc.org/calendar/shabb
 at-in-the-round-1663163361-417853\n\nFamily Shabbat Dinner
DTSTART;TZID=America/New_York:20230120T170000
DTEND;TZID=America/New_York:20230120T190000
END:VEVENT
END:VCALENDAR
