BEGIN:VCALENDAR
PRODID:-//eluceo/ical//2.0/EN
VERSION:2.0
CALSCALE:GREGORIAN
BEGIN:VEVENT
UID:d180a3464dc6761f16061f0b9e4096fc
DTSTAMP:20260425T170212Z
SUMMARY:Shabbat in the Round at Anshe Sfard
DESCRIPTION:Shaw JCC of Akron\nCalendar\nhttps://shawjcc.org/calendar/shabb
 at-in-the-round-1663164842-417860\n\nFamily Shabbat Dinner
DTSTART;TZID=America/New_York:20230317T170000
DTEND;TZID=America/New_York:20230317T190000
END:VEVENT
END:VCALENDAR
