BEGIN:VCALENDAR
PRODID:-//eluceo/ical//2.0/EN
VERSION:2.0
CALSCALE:GREGORIAN
BEGIN:VEVENT
UID:aafbb8e88b15e3fdd67b2e20fcee39e2
DTSTAMP:20260422T174545Z
SUMMARY:Shabbat in the Round
DESCRIPTION:Shaw JCC of Akron\nCalendar\nhttps://shawjcc.org/calendar/shabb
 at-in-the-round-1689774137-443402\n\nFamily Shabbat Dinner
DTSTART;TZID=America/New_York:20230818T050000
DTEND;TZID=America/New_York:20230818T070000
END:VEVENT
END:VCALENDAR
