BEGIN:VCALENDAR
PRODID:-//eluceo/ical//2.0/EN
VERSION:2.0
CALSCALE:GREGORIAN
BEGIN:VEVENT
UID:c8d873b912f47abc5c3dd53500255489
DTSTAMP:20260422T004433Z
SUMMARY:Shabbat in the Round
DESCRIPTION:Shaw JCC of Akron\nCalendar\nhttps://shawjcc.org/calendar/shabb
 at-in-the-round-1689777443-443425\n\nMonthly Family Shabbat dinner
DTSTART;TZID=America/New_York:20240517T173000
DTEND;TZID=America/New_York:20240517T193000
END:VEVENT
END:VCALENDAR
